BEGIN:VCALENDAR
VERSION:2.0
PRODID:-//Pyhäselän Urheilijat - ECPv6.15.19//NONSGML v1.0//EN
CALSCALE:GREGORIAN
METHOD:PUBLISH
X-ORIGINAL-URL:https://www.pyhaselanurheilijat.fi
X-WR-CALDESC:Tapahtumat Pyhäselän Urheilijat
REFRESH-INTERVAL;VALUE=DURATION:PT1H
X-Robots-Tag:noindex
X-PUBLISHED-TTL:PT1H
BEGIN:VTIMEZONE
TZID:Europe/Helsinki
BEGIN:DAYLIGHT
TZOFFSETFROM:+0200
TZOFFSETTO:+0300
TZNAME:EEST
DTSTART:20210328T010000
END:DAYLIGHT
BEGIN:STANDARD
TZOFFSETFROM:+0300
TZOFFSETTO:+0200
TZNAME:EET
DTSTART:20211031T010000
END:STANDARD
BEGIN:DAYLIGHT
TZOFFSETFROM:+0200
TZOFFSETTO:+0300
TZNAME:EEST
DTSTART:20220327T010000
END:DAYLIGHT
BEGIN:STANDARD
TZOFFSETFROM:+0300
TZOFFSETTO:+0200
TZNAME:EET
DTSTART:20221030T010000
END:STANDARD
BEGIN:DAYLIGHT
TZOFFSETFROM:+0200
TZOFFSETTO:+0300
TZNAME:EEST
DTSTART:20230326T010000
END:DAYLIGHT
BEGIN:STANDARD
TZOFFSETFROM:+0300
TZOFFSETTO:+0200
TZNAME:EET
DTSTART:20231029T010000
END:STANDARD
END:VTIMEZONE
BEGIN:VEVENT
DTSTART;TZID=Europe/Helsinki:20220529T190000
DTEND;TZID=Europe/Helsinki:20220529T233000
DTSTAMP:20260424T032040
CREATED:20220503T191816Z
LAST-MODIFIED:20220504T120021Z
UID:12465-1653850800-1653867000@www.pyhaselanurheilijat.fi
SUMMARY:Lasse Hoikka & Souvarit
DESCRIPTION:Paikalla tanssikenkämyyjä Esko Sanio
URL:https://www.pyhaselanurheilijat.fi/tapahtuma/lasse-hoikka-souvarit/
LOCATION:Lemmenlava
END:VEVENT
END:VCALENDAR