BEGIN:VCALENDAR
VERSION:2.0
PRODID:-//Pyhäselän Urheilijat - ECPv6.15.19//NONSGML v1.0//EN
CALSCALE:GREGORIAN
METHOD:PUBLISH
X-WR-CALNAME:Pyhäselän Urheilijat
X-ORIGINAL-URL:https://www.pyhaselanurheilijat.fi
X-WR-CALDESC:Tapahtumat Pyhäselän Urheilijat
REFRESH-INTERVAL;VALUE=DURATION:PT1H
X-Robots-Tag:noindex
X-PUBLISHED-TTL:PT1H
BEGIN:VTIMEZONE
TZID:Europe/Helsinki
BEGIN:DAYLIGHT
TZOFFSETFROM:+0200
TZOFFSETTO:+0300
TZNAME:EEST
DTSTART:20200329T010000
END:DAYLIGHT
BEGIN:STANDARD
TZOFFSETFROM:+0300
TZOFFSETTO:+0200
TZNAME:EET
DTSTART:20201025T010000
END:STANDARD
BEGIN:DAYLIGHT
TZOFFSETFROM:+0200
TZOFFSETTO:+0300
TZNAME:EEST
DTSTART:20210328T010000
END:DAYLIGHT
BEGIN:STANDARD
TZOFFSETFROM:+0300
TZOFFSETTO:+0200
TZNAME:EET
DTSTART:20211031T010000
END:STANDARD
BEGIN:DAYLIGHT
TZOFFSETFROM:+0200
TZOFFSETTO:+0300
TZNAME:EEST
DTSTART:20220327T010000
END:DAYLIGHT
BEGIN:STANDARD
TZOFFSETFROM:+0300
TZOFFSETTO:+0200
TZNAME:EET
DTSTART:20221030T010000
END:STANDARD
END:VTIMEZONE
BEGIN:VEVENT
DTSTART;TZID=Europe/Helsinki:20210816T090000
DTEND;TZID=Europe/Helsinki:20210821T170000
DTSTAMP:20260424T190500
CREATED:20210717T062236Z
LAST-MODIFIED:20210719T095317Z
UID:11977-1629104400-1629565200@www.pyhaselanurheilijat.fi
SUMMARY:Lemmenlava vuokrattu
DESCRIPTION:
URL:https://www.pyhaselanurheilijat.fi/tapahtuma/lemmenlava-vuokrattu-2/
END:VEVENT
BEGIN:VEVENT
DTSTART;TZID=Europe/Helsinki:20210823T090000
DTEND;TZID=Europe/Helsinki:20210827T160000
DTSTAMP:20260424T190500
CREATED:20210717T061837Z
LAST-MODIFIED:20210717T062106Z
UID:11974-1629709200-1630080000@www.pyhaselanurheilijat.fi
SUMMARY:Lemmenlava vuokrattu
DESCRIPTION:
URL:https://www.pyhaselanurheilijat.fi/tapahtuma/lemmenlava-vuokrattu/
LOCATION:Lemmenlava
END:VEVENT
END:VCALENDAR